BEGIN:VCALENDAR
VERSION:2.0
PRODID:-//hacksw/handcal//NONSGML v1.0//EN
CALSCALE:GREGORIAN

BEGIN:VEVENT
DTSTAMP:20260420T035927Z
DTSTART:20260423T160000Z
DTEND:20260423T170000Z
UID:69e5a49f7e21a
SUMMARY:Aus erster Hand - Die geröntgte Maria – Ein barockes Meisterwerk von Pedro de Mena
DESCRIPTION:Die wissenschaftlichen Experten des Liebieghauses informieren Sie aus erster Hand\, mit welchen Themen sie sich derzeit beschäftigen.   
  
Im April erwartet Sie ein spektakulärer Besuch in der Restaurierungswerkstatt des Liebieghauses: Das Restauratoren-Team Harald Theiss und Miguel González de Quevedo Ibáñez berichten über das beeindrucke Meisterwerk des berühmten spanischen Bildhauers Pedro de Mena. Bei dieser Führung erhalten Sie exklusive Einblicke in die Restaurierung der meisterhaften „[Inmaculada Concepción](node/489)“.  
  
Kosten: 10 Euro\, ermäßigt 8 Euro (inkl. Eintritt)    
Treffpunkt: Foyer      
Tickets: Erhältlich in unserem [Online-Shop](https://liebieghaus.ticketfritz.de/Event/Kalender/7874/34066?typ=Vorlage)
LOCATION:Schaumainkai 71
60596 Frankfurt am Main
URL;VALUE=URI:https://www.liebieghaus.de/de/angebote/aus-erster-hand?event=1730&delta=0
X-APPLE-STRUCTURED-LOCATION;VALUE=URI;X-ADDRESS=Schaumainkai 71\n60596 Frankfurt am Main;X-APPLE-RADIUS=49;X-TITLE=Schaumainkai 71:geo:50.1020675,8.6711337
END:VEVENT

END:VCALENDAR