BEGIN:VCALENDAR
VERSION:2.0
PRODID:-//hacksw/handcal//NONSGML v1.0//EN
CALSCALE:GREGORIAN

BEGIN:VEVENT
DTSTAMP:20260420T021506Z
DTSTART:20260425T130000Z
DTEND:20260425T140000Z
UID:69e58c2ad12e7
SUMMARY:Familienführung - Heldenfiguren 
DESCRIPTION:Erleben Sie gemeinsam mit Ihren Kindern die Vielfalt im Liebieghaus.   
  
Gemeinsam begeben wir uns in die Welt der Helden: Einige sind so klug wie Ariadne\, die mit ihrem Faden den Weg aus dem Labyrinth findet\, andere so mutig wie der heilige Georg im Kampf gegen Drachen. Wir entdecken die spannenden Geschichten hinter den Skulpturen und erfahren\, wie sie Klugheit\, Mut und Stärke sichtbar werden lassen.  
  
Kosten: Für Kinder unter 12 Jahren ist die Teilnahme kostenfrei. Begleitende Erwachsene zahlen den regulären Eintrittspreis.    
Treffpunkt: Foyer   
Tickets: Erhältlich in unserem [Online-Shop](https://liebieghaus.ticketfritz.de/Event/Kalender/7771/21983?typ=Vorlage)
LOCATION:Schaumainkai 71
60596 Frankfurt am Main
URL;VALUE=URI:https://www.liebieghaus.de/de/angebote/familienfuehrung?event=1735&delta=0
X-APPLE-STRUCTURED-LOCATION;VALUE=URI;X-ADDRESS=Schaumainkai 71\n60596 Frankfurt am Main;X-APPLE-RADIUS=49;X-TITLE=Schaumainkai 71:geo:50.1020675,8.6711337
END:VEVENT

END:VCALENDAR