BEGIN:VCALENDAR
VERSION:2.0
PRODID:-//hacksw/handcal//NONSGML v1.0//EN
CALSCALE:GREGORIAN

BEGIN:VEVENT
DTSTAMP:20260420T035555Z
DTSTART:20260425T170000Z
DTEND:20260426T000000Z
UID:69e5a3cb6663c
SUMMARY:Nacht der Museen - Nacht der Museen
DESCRIPTION:Die Liebieghaus Skulpturensammlung präsentiert eine umfassende Sonderausstellung zu [August Gaul](node/524)\, einem der ersten modernen Bildhauer Deutschlands. Rund hundert Tierplastiken aus Bronze\, Keramik und Marmor treten hier in Dialog mit Skulpturen aus drei Jahrtausenden. Kunstvermittler führen durch die Ausstellung und die Sammlung\, während Kinder im Offenen Atelier eigene Kunstwerke gestalten können. Für kulinarische Genüsse sorgt das [Café im Liebieghaus](node/336).   
  
Tickets: Erhältlich an der Abendkasse
LOCATION:Schaumainkai 71
60596 Frankfurt am Main
URL;VALUE=URI:https://www.liebieghaus.de/de/angebote/nacht-der-museen?event=1736&delta=0
X-APPLE-STRUCTURED-LOCATION;VALUE=URI;X-ADDRESS=Schaumainkai 71\n60596 Frankfurt am Main;X-APPLE-RADIUS=49;X-TITLE=Schaumainkai 71:geo:50.1020675,8.6711337
END:VEVENT

END:VCALENDAR